BEGIN:VCALENDAR
VERSION:2.0
PRODID:spatie/icalendar-generator
DESCRIPTION:Events from MALYOMAR Learning &amp;amp\; Development
X-WR-CALDESC:Events from MALYOMAR Learning &amp;amp\; Development
REFRESH-INTERVAL;VALUE=DURATION:PT1440M
X-PUBLISHED-TTL:PT1440M
BEGIN:VTIMEZONE
TZID:Etc/GMT-3
BEGIN:STANDARD
DTSTART:20240127T200000Z
TZOFFSETFROM:+0300
TZOFFSETTO:+0300
END:STANDARD
END:VTIMEZONE
BEGIN:VTIMEZONE
TZID:UTC
BEGIN:STANDARD
DTSTART:20250726T053220Z
TZOFFSETFROM:+0000
TZOFFSETTO:+0000
END:STANDARD
END:VTIMEZONE
BEGIN:VEVENT
UID:42-21
DTSTAMP:20260422T053220Z
SUMMARY:ASME B31.3 Process Piping
LOCATION:Online-Cairo/Egypt Time-MS TEAMS Hassan EL-Sayad  Cairo
ORGANIZER;CN=Mahmoud Abdallah:MAILTO:mahmoud_aly@hotmail.com
DTSTART;TZID=Etc/GMT-3:20241023T200000
DTEND;TZID=Etc/GMT-3:20241023T230000
X-ALT-DESC;FMTTYPE=TEXT/HTML:Course Title : ASME B31.3 Period:        
    Oct/Nov 2024 Duration:       30 hours Material Includes Downloada
 ble course notes from ASME’s Learning Hub Digital Access to the ASME B31
 .3 Process Piping Code for the duration of the course About This Course Th
 is course provides an introduction to the ASME B31.3 Process Piping&amp;hellip
 \;
CATEGORIES:ASME Course,  ASME B31.3
URL;VALUE=URI:https://learning.malyomar.com/mc-events/asme-b31-3-process-pi
 ping-4/
METHOD:PUBLISH
END:VEVENT
END:VCALENDAR